BEGIN:VCALENDAR
VERSION:2.0
PRODID:-//Tukios.com/
BEGIN:VEVENT
UID:43167aa9-4d6e-42a7-b86a-0085c6dfc392@www.berkebilefuneralhome.com
DTSTAMP:20260424T191055Z
DTSTART:20260428
SUMMARY:Burial
DESCRIPTION:
URL:https://www.berkebilefuneralhome.com/obituaries/gene-gilpin-sr
LOCATION: 4426 Business 220  Bedford  PA 15522
GEO:40.0543256;-78.5080054
END:VEVENT
END:VCALENDAR