BEGIN:VCALENDAR
VERSION:2.0
PRODID:-//Tukios.com/
BEGIN:VEVENT
UID:218f173b-7f61-42fb-899b-6924fa70ef8f@www.berkebilefuneralhome.com
DTSTAMP:20260424T191252Z
DTSTART:20260428T140000Z
DTEND:20260428T150000Z
SUMMARY:Visitation
DESCRIPTION:
URL:https://www.berkebilefuneralhome.com/obituaries/gene-gilpin-sr
LOCATION: 214 S Juliana St  Bedford PA 15522
GEO:40.0165535;-78.5038054
END:VEVENT
END:VCALENDAR