BEGIN:VCALENDAR
VERSION:2.0
PRODID:-//Tukios.com/
BEGIN:VEVENT
UID:4f8a5686-6245-43dc-9dd1-a27730b8aeea@www.berkebilefuneralhome.com
DTSTAMP:20260424T192019Z
DTSTART:20260428T150000Z
DTEND:20260428T160000Z
SUMMARY:Funeral Service
DESCRIPTION:
URL:https://www.berkebilefuneralhome.com/obituaries/gene-gilpin-sr
LOCATION: 214 S Juliana St  Bedford PA 15522
GEO:40.0165535;-78.5038054
END:VEVENT
END:VCALENDAR